BEGIN:VCALENDAR
VERSION:2.0
PRODID:-//eventon.com NONSGML v1.0//EN
CALSCALE:GREGORIAN
METHOD:PUBLISH
BEGIN:VEVENT
UID:69e8d5bb3cb18
DTSTAMP:20260422T140547Z
DTSTART:20281107T104900Z
DTEND:20281107T104900Z
LOCATION:
SUMMARY:Termin Zarezerwowany
DESCRIPTION:\nhttps://arena.tarnow.pl/events/termin-zarezerwowany-3/
URL:https://arena.tarnow.pl/events/termin-zarezerwowany-3/
END:VEVENT
END:VCALENDAR