BEGIN:VCALENDAR
VERSION:2.0
PRODID:-//eventon.com NONSGML v1.0//EN
CALSCALE:GREGORIAN
METHOD:PUBLISH
BEGIN:VEVENT
UID:69e52a6c5c3c3
DTSTAMP:20260419T191804Z
DTSTART:20280615T104900Z
DTEND:20280619T104900Z
LOCATION:
SUMMARY:Termin Zarezerwowany
DESCRIPTION:\nhttps://arena.tarnow.pl/events/termin-zarezerwowany-18/
URL:https://arena.tarnow.pl/events/termin-zarezerwowany-18/
END:VEVENT
END:VCALENDAR