BEGIN:VCALENDAR
VERSION:2.0
PRODID:-//eventon.com NONSGML v1.0//EN
CALSCALE:GREGORIAN
METHOD:PUBLISH
BEGIN:VEVENT
UID:69e52a6e2942d
DTSTAMP:20260419T191806Z
DTSTART:20270617T104900Z
DTEND:20270621T104900Z
LOCATION:
SUMMARY:Termin Zarezerwowany
DESCRIPTION:\nhttps://arena.tarnow.pl/events/termin-zarezerwowany-17/
URL:https://arena.tarnow.pl/events/termin-zarezerwowany-17/
END:VEVENT
END:VCALENDAR