BEGIN:VCALENDAR
VERSION:2.0
PRODID:-//eventon.com NONSGML v1.0//EN
CALSCALE:GREGORIAN
METHOD:PUBLISH
BEGIN:VEVENT
UID:69e52a738cbd0
DTSTAMP:20260419T191811Z
DTSTART:20260912T104900Z
DTEND:20260912T104900Z
LOCATION:
SUMMARY:Termin Zarezerwowany
DESCRIPTION:\nhttps://arena.tarnow.pl/events/termin-zarezerwowany-14/
URL:https://arena.tarnow.pl/events/termin-zarezerwowany-14/
END:VEVENT
END:VCALENDAR