BEGIN:VCALENDAR
VERSION:2.0
PRODID:-//eventon.com NONSGML v1.0//EN
CALSCALE:GREGORIAN
METHOD:PUBLISH
BEGIN:VEVENT
UID:69e7b301db29e
DTSTAMP:20260421T172521Z
DTSTART:20260905T104900Z
DTEND:20260905T104900Z
LOCATION:
SUMMARY:Termin Zarezerwowany
DESCRIPTION:\nhttps://arena.tarnow.pl/events/termin-zarezerwowany-13/
URL:https://arena.tarnow.pl/events/termin-zarezerwowany-13/
END:VEVENT
END:VCALENDAR