BEGIN:VCALENDAR
VERSION:2.0
PRODID:-//eventon.com NONSGML v1.0//EN
CALSCALE:GREGORIAN
METHOD:PUBLISH
BEGIN:VEVENT
UID:69e52a802d4d3
DTSTAMP:20260419T191824Z
DTSTART:20261127T104900Z
DTEND:20261127T104900Z
LOCATION:
SUMMARY:Termin Zarezerwowany
DESCRIPTION:\nhttps://arena.tarnow.pl/events/termin-zarezerwowany-8/
URL:https://arena.tarnow.pl/events/termin-zarezerwowany-8/
END:VEVENT
END:VCALENDAR