BEGIN:VCALENDAR
VERSION:2.0
PRODID:-//eventon.com NONSGML v1.0//EN
CALSCALE:GREGORIAN
METHOD:PUBLISH
BEGIN:VEVENT
UID:69e7f479b8701
DTSTAMP:20260421T220441Z
DTSTART:20270130T080000Z
DTEND:20270130T200000Z
LOCATION:
SUMMARY:Mała Liga Mistrzów 4
DESCRIPTION:\nhttps://arena.tarnow.pl/events/mala-liga-mistrzow-4/
URL:https://arena.tarnow.pl/events/mala-liga-mistrzow-4/
END:VEVENT
END:VCALENDAR