BEGIN:VCALENDAR
VERSION:2.0
PRODID:-//eventon.com NONSGML v1.0//EN
CALSCALE:GREGORIAN
METHOD:PUBLISH
BEGIN:VEVENT
UID:69e52a79d985f
DTSTAMP:20260419T191817Z
DTSTART:20271009T104900Z
DTEND:20271009T104900Z
LOCATION:
SUMMARY:Termin Zarezerwowany
DESCRIPTION:\nhttps://arena.tarnow.pl/events/termin-zarezerwowany-11/
URL:https://arena.tarnow.pl/events/termin-zarezerwowany-11/
END:VEVENT
END:VCALENDAR