BEGIN:VCALENDAR
VERSION:2.0
PRODID:-//eventon.com NONSGML v1.0//EN
CALSCALE:GREGORIAN
METHOD:PUBLISH
BEGIN:VEVENT
UID:69e52a7d741a9
DTSTAMP:20260419T191821Z
DTSTART:20271120T080100Z
DTEND:20271120T170000Z
LOCATION:
SUMMARY:Rusz Duszę
DESCRIPTION:\nhttps://arena.tarnow.pl/events/rusz-dusze-2/
URL:https://arena.tarnow.pl/events/rusz-dusze-2/
END:VEVENT
END:VCALENDAR