BEGIN:VCALENDAR
VERSION:2.0
PRODID:-//eventon.com NONSGML v1.0//EN
CALSCALE:GREGORIAN
METHOD:PUBLISH
BEGIN:VEVENT
UID:69e5c16018fab
DTSTAMP:20260420T060208Z
DTSTART:20271120T080100Z
DTEND:20271120T170000Z
LOCATION:
SUMMARY:Forum Rad Parafialnych
DESCRIPTION:\nhttps://arena.tarnow.pl/events/forum-rad-parafialnych/
URL:https://arena.tarnow.pl/events/forum-rad-parafialnych/
END:VEVENT
END:VCALENDAR