BEGIN:VCALENDAR
VERSION:2.0
PRODID:-//eventon.com NONSGML v1.0//EN
CALSCALE:GREGORIAN
METHOD:PUBLISH
BEGIN:VEVENT
UID:69e52a83bf6bf
DTSTAMP:20260419T191827Z
DTSTART:20271023T080100Z
DTEND:20271023T170000Z
LOCATION:
SUMMARY:Zjazd Kolędników
DESCRIPTION:\nhttps://arena.tarnow.pl/events/zjazd-kolednikow-2/
URL:https://arena.tarnow.pl/events/zjazd-kolednikow-2/
END:VEVENT
END:VCALENDAR