BEGIN:VCALENDAR
VERSION:2.0
PRODID:-//eventon.com NONSGML v1.0//EN
CALSCALE:GREGORIAN
METHOD:PUBLISH
BEGIN:VEVENT
UID:69e575cbc255d
DTSTAMP:20260420T003939Z
DTSTART:20261121T080100Z
DTEND:20261121T170000Z
LOCATION:
SUMMARY:Forum Rad Parafialnych
DESCRIPTION:\nhttps://arena.tarnow.pl/events/forum-rad-parafialnych-rusz-du
 sze/
URL:https://arena.tarnow.pl/events/forum-rad-parafialnych-rusz-dusze/
END:VEVENT
END:VCALENDAR