BEGIN:VCALENDAR
VERSION:2.0
PRODID:-//eventon.com NONSGML v1.0//EN
CALSCALE:GREGORIAN
METHOD:PUBLISH
BEGIN:VEVENT
UID:69e5c1607c85e
DTSTAMP:20260420T060208Z
DTSTART:20270412T104900Z
DTEND:20270412T104900Z
LOCATION:
SUMMARY:Termin Zarezerwowany
DESCRIPTION:\nhttps://arena.tarnow.pl/events/termin-zarezerwowany-10/
URL:https://arena.tarnow.pl/events/termin-zarezerwowany-10/
END:VEVENT
END:VCALENDAR