BEGIN:VCALENDAR
VERSION:2.0
PRODID:-//eventon.com NONSGML v1.0//EN
CALSCALE:GREGORIAN
METHOD:PUBLISH
BEGIN:VEVENT
UID:69e52a82d592e
DTSTAMP:20260419T191826Z
DTSTART:20270219T104900Z
DTEND:20270219T104900Z
LOCATION:
SUMMARY:Termin Zarezerwowany
DESCRIPTION:\nhttps://arena.tarnow.pl/events/termin-zarezerwowany-9/
URL:https://arena.tarnow.pl/events/termin-zarezerwowany-9/
END:VEVENT
END:VCALENDAR