BEGIN:VCALENDAR
VERSION:2.0
PRODID:-//eventon.com NONSGML v1.0//EN
CALSCALE:GREGORIAN
METHOD:PUBLISH
BEGIN:VEVENT
UID:69e7a0b0f1ec5
DTSTAMP:20260421T160712Z
DTSTART:20261229T104900Z
DTEND:20261229T104900Z
LOCATION:
SUMMARY:Termin Zarezerwowany
DESCRIPTION:\nhttps://arena.tarnow.pl/events/termin-zarezerwowany-7/
URL:https://arena.tarnow.pl/events/termin-zarezerwowany-7/
END:VEVENT
END:VCALENDAR