BEGIN:VCALENDAR
VERSION:2.0
PRODID:-//eventon.com NONSGML v1.0//EN
CALSCALE:GREGORIAN
METHOD:PUBLISH
BEGIN:VEVENT
UID:69e52a7e65629
DTSTAMP:20260419T191822Z
DTSTART:20261024T104900Z
DTEND:20261025T104900Z
LOCATION:
SUMMARY:Termin Zarezerwowany
DESCRIPTION:\nhttps://arena.tarnow.pl/events/termin-zarezerwowany-copy/
URL:https://arena.tarnow.pl/events/termin-zarezerwowany-copy/
END:VEVENT
END:VCALENDAR