BEGIN:VCALENDAR
VERSION:2.0
PRODID:-//eventon.com NONSGML v1.0//EN
CALSCALE:GREGORIAN
METHOD:PUBLISH
BEGIN:VEVENT
UID:69e78a6dd4ab9
DTSTAMP:20260421T143213Z
DTSTART:20260516T104900Z
DTEND:20260516T104900Z
LOCATION:
SUMMARY:Termin Zarezerwowany
DESCRIPTION:\nhttps://arena.tarnow.pl/events/termin-zarezerwowany-4/
URL:https://arena.tarnow.pl/events/termin-zarezerwowany-4/
END:VEVENT
END:VCALENDAR