BEGIN:VCALENDAR
VERSION:2.0
PRODID:-//eventon.com NONSGML v1.0//EN
CALSCALE:GREGORIAN
METHOD:PUBLISH
BEGIN:VEVENT
UID:69e7a0a70bba9
DTSTAMP:20260421T160703Z
DTSTART:20260402T170000Z
DTEND:20260402T190000Z
LOCATION:
SUMMARY:Mecz 26 Kolejki I Ligi Piłki Ręcznej
DESCRIPTION:\nhttps://arena.tarnow.pl/events/mecz-26-kolejki-i-ligi-pilki-r
 ecznej/
URL:https://arena.tarnow.pl/events/mecz-26-kolejki-i-ligi-pilki-recznej/
END:VEVENT
END:VCALENDAR