BEGIN:VCALENDAR
VERSION:2.0
PRODID:-//eventon.com NONSGML v1.0//EN
CALSCALE:GREGORIAN
METHOD:PUBLISH
BEGIN:VEVENT
UID:69e6ed2f0cebb
DTSTAMP:20260421T032119Z
DTSTART:20240602T180000Z
DTEND:20240602T210000Z
LOCATION:Arena Jaskółka Tarnów Traugutta 3B\,  33-101 Tarnów
SUMMARY:CEV VOLLEYBALL EUROPEAN GOLDEN LEAGUE 2024 | MEN
DESCRIPTION:\nhttps://arena.tarnow.pl/events/cev-volleyball-european-golden
 -league-2024-men-3/
URL:https://arena.tarnow.pl/events/cev-volleyball-european-golden-league-2024-men-3/
END:VEVENT
END:VCALENDAR