BEGIN:VCALENDAR
VERSION:2.0
PRODID:-//eventon.com NONSGML v1.0//EN
CALSCALE:GREGORIAN
METHOD:PUBLISH
BEGIN:VEVENT
UID:69e6b82a7ea1b
DTSTAMP:20260420T233506Z
DTSTART:20221003T040000Z
DTEND:20221003T060000Z
LOCATION:Arena Jaskółka Tarnów Traugutta 3B\,  33-101 Tarnów
SUMMARY:GRUPA AZOTY UNIA TARNÓW vs SANDRA SPA POGOŃ
DESCRIPTION:GRUPA AZOTY UNIA TARNÓW vs SANDRA SPA POGOŃ\nhttps://arena.ta
 rnow.pl/events/grupa-azoty-unia-tarnow-vs-sandra-spa-pogon-2/
URL:https://arena.tarnow.pl/events/grupa-azoty-unia-tarnow-vs-sandra-spa-pogon-2/
END:VEVENT
END:VCALENDAR