BEGIN:VCALENDAR
VERSION:2.0
PRODID:-//eventon.com NONSGML v1.0//EN
CALSCALE:GREGORIAN
METHOD:PUBLISH
BEGIN:VEVENT
UID:69eb04993e73e
DTSTAMP:20260424T055017Z
DTSTART:20220717T030000Z
DTEND:20220717T090000Z
LOCATION:
SUMMARY:SIATKARSKIE MISTRZOSTWA EUROPY U22 - PÓŁFINAŁ
DESCRIPTION:SIATKARSKIE MISTRZOSTWA EUROPY U22 - PÓŁFINAŁ\nhttps://arena
 .tarnow.pl/events/siatkarskie-mistrzostwa-europy-u22-3/
URL:https://arena.tarnow.pl/events/siatkarskie-mistrzostwa-europy-u22-3/
END:VEVENT
END:VCALENDAR