BEGIN:VCALENDAR
VERSION:2.0
PRODID:-//eventon.com NONSGML v1.0//EN
CALSCALE:GREGORIAN
METHOD:PUBLISH
BEGIN:VEVENT
UID:69ebf0c28393e
DTSTAMP:20260424T223754Z
DTSTART:20220713T230000Z
DTEND:20220714T010000Z
LOCATION:Arena Jaskółka Tarnów Traugutta 3B\,  33-101 Tarnów
SUMMARY:Godz. 12:00 – Holandia – Turcja (grupa II)
DESCRIPTION:Wstęp wolny.\nhttps://arena.tarnow.pl/events/godz-1200-holandi
 a-turcja-grupa-ii/
URL:https://arena.tarnow.pl/events/godz-1200-holandia-turcja-grupa-ii/
END:VEVENT
END:VCALENDAR