BEGIN:VCALENDAR
VERSION:2.0
PRODID:-//eventon.com NONSGML v1.0//EN
CALSCALE:GREGORIAN
METHOD:PUBLISH
BEGIN:VEVENT
UID:69ec0307a0a12
DTSTAMP:20260424T235551Z
DTSTART:20220513T210000Z
DTEND:20220513T230000Z
LOCATION:Arena Jaskółka Tarnów Traugutta 3B\,  33-101 Tarnów
SUMMARY:Tarnowski dzień paraolimpijczyka
DESCRIPTION:Tarnowski dzień paraolimpijczyka\nhttps://arena.tarnow.pl/even
 ts/tarnowski-dzien-paraolimpijczyka/
URL:https://arena.tarnow.pl/events/tarnowski-dzien-paraolimpijczyka/
END:VEVENT
END:VCALENDAR